BEGIN:VCALENDAR
VERSION:2.0
PRODID:-//Enfield Rathmolyon Parish - ECPv6.15.13//NONSGML v1.0//EN
CALSCALE:GREGORIAN
METHOD:PUBLISH
X-WR-CALNAME:Enfield Rathmolyon Parish
X-ORIGINAL-URL:https://enfieldrathmolyonparish.ie
X-WR-CALDESC:Events for Enfield Rathmolyon Parish
REFRESH-INTERVAL;VALUE=DURATION:PT1H
X-Robots-Tag:noindex
X-PUBLISHED-TTL:PT1H
BEGIN:VTIMEZONE
TZID:Europe/Dublin
BEGIN:STANDARD
TZOFFSETFROM:+0000
TZOFFSETTO:+0100
TZNAME:IST
DTSTART:20250330T010000
END:STANDARD
BEGIN:DAYLIGHT
TZOFFSETFROM:+0100
TZOFFSETTO:+0000
TZNAME:GMT
DTSTART:20251026T010000
END:DAYLIGHT
BEGIN:STANDARD
TZOFFSETFROM:+0000
TZOFFSETTO:+0100
TZNAME:IST
DTSTART:20260329T010000
END:STANDARD
BEGIN:DAYLIGHT
TZOFFSETFROM:+0100
TZOFFSETTO:+0000
TZNAME:GMT
DTSTART:20261025T010000
END:DAYLIGHT
BEGIN:STANDARD
TZOFFSETFROM:+0000
TZOFFSETTO:+0100
TZNAME:IST
DTSTART:20270328T010000
END:STANDARD
BEGIN:DAYLIGHT
TZOFFSETFROM:+0100
TZOFFSETTO:+0000
TZNAME:GMT
DTSTART:20271031T010000
END:DAYLIGHT
END:VTIMEZONE
BEGIN:VEVENT
DTSTART;VALUE=DATE:20260423
DTEND;VALUE=DATE:20260424
DTSTAMP:20260421T103252
CREATED:20250801T060858Z
LAST-MODIFIED:20250801T092715Z
UID:1088-1776902400-1776988799@enfieldrathmolyonparish.ie
SUMMARY:Alpha
DESCRIPTION:8.00pm – 9.30pm
URL:https://enfieldrathmolyonparish.ie/event/alpha-11/
LOCATION:Gregory\, Enfield
END:VEVENT
BEGIN:VEVENT
DTSTART;VALUE=DATE:20260430
DTEND;VALUE=DATE:20260501
DTSTAMP:20260421T103252
CREATED:20250801T060944Z
LAST-MODIFIED:20250801T092649Z
UID:1090-1777507200-1777593599@enfieldrathmolyonparish.ie
SUMMARY:Alpha
DESCRIPTION:8.00pm – 9.30pm
URL:https://enfieldrathmolyonparish.ie/event/alpha-12/
LOCATION:Gregory\, Enfield
END:VEVENT
BEGIN:VEVENT
DTSTART;VALUE=DATE:20260501
DTEND;VALUE=DATE:20260502
DTSTAMP:20260421T103252
CREATED:20250731T061159Z
LAST-MODIFIED:20250731T061159Z
UID:1027-1777593600-1777679999@enfieldrathmolyonparish.ie
SUMMARY:Monthly Novena Mass with a focus on Healing and Intercession to Padre Pio
DESCRIPTION:6.30pm – Exposition of the Blessed Sacrament \n7.00pm – Rosary \n7.30pm – Mass with the Annointing of the Sick \nMass will conclude with Benediction \nThe Sacrament of Reconciliation will be available from 6.30pm – 7.20pm
URL:https://enfieldrathmolyonparish.ie/event/monthly-novena-mass-with-a-focus-on-healing-and-intercession-to-padre-pio-9/
LOCATION:St. Michael’s Church Rathmolyon
END:VEVENT
BEGIN:VEVENT
DTSTART;VALUE=DATE:20260502
DTEND;VALUE=DATE:20260503
DTSTAMP:20260421T103252
CREATED:20250731T061332Z
LAST-MODIFIED:20250731T061332Z
UID:1029-1777680000-1777766399@enfieldrathmolyonparish.ie
SUMMARY:First Holy Communion Day - St. Mary's & St. Michael's
DESCRIPTION:
URL:https://enfieldrathmolyonparish.ie/event/first-holy-communion-day-st-marys-st-michaels/
END:VEVENT
BEGIN:VEVENT
DTSTART;VALUE=DATE:20260509
DTEND;VALUE=DATE:20260510
DTSTAMP:20260421T103252
CREATED:20250731T061439Z
LAST-MODIFIED:20250731T061439Z
UID:1031-1778284800-1778371199@enfieldrathmolyonparish.ie
SUMMARY:First Holy Communion Day - St. Patrick's
DESCRIPTION:
URL:https://enfieldrathmolyonparish.ie/event/first-holy-communion-day-st-patricks/
END:VEVENT
BEGIN:VEVENT
DTSTART;VALUE=DATE:20260509
DTEND;VALUE=DATE:20260511
DTSTAMP:20260421T103252
CREATED:20250730T182430Z
LAST-MODIFIED:20250730T182430Z
UID:945-1778284800-1778457599@enfieldrathmolyonparish.ie
SUMMARY:Sponsors Day
DESCRIPTION:Bring your Sponsor to any of the Weekend Masses
URL:https://enfieldrathmolyonparish.ie/event/sponsors-day/
END:VEVENT
BEGIN:VEVENT
DTSTART;VALUE=DATE:20260523
DTEND;VALUE=DATE:20260524
DTSTAMP:20260421T103252
CREATED:20250731T061718Z
LAST-MODIFIED:20250731T061718Z
UID:1033-1779494400-1779580799@enfieldrathmolyonparish.ie
SUMMARY:Cemetery Sunday - Kill
DESCRIPTION:6.00pm Mass followed by blessing of the graves
URL:https://enfieldrathmolyonparish.ie/event/cemetery-sunday-kill/
LOCATION:St. Michael’s Church Rathmolyon
END:VEVENT
BEGIN:VEVENT
DTSTART;VALUE=DATE:20260524
DTEND;VALUE=DATE:20260525
DTSTAMP:20260421T103252
CREATED:20250731T061852Z
LAST-MODIFIED:20250731T061852Z
UID:1035-1779580800-1779667199@enfieldrathmolyonparish.ie
SUMMARY:Cemetery Sunday - Jordanstown
DESCRIPTION:11.30am mass followed by blessing of the graves
URL:https://enfieldrathmolyonparish.ie/event/cemetery-sunday-jordanstown/
LOCATION:Church of the Assumption
END:VEVENT
BEGIN:VEVENT
DTSTART;VALUE=DATE:20260612
DTEND;VALUE=DATE:20260613
DTSTAMP:20260421T103252
CREATED:20250731T062031Z
LAST-MODIFIED:20250731T062031Z
UID:1037-1781222400-1781308799@enfieldrathmolyonparish.ie
SUMMARY:Monthly Novena Mass with a focus on Healing and Intercession to Padre Pio
DESCRIPTION:6.30pm – Exposition of the Blessed Sacrament \n7.00pm – Rosary \n7.30pm – Mass with the Annointing of the Sick \nMass will conclude with Benediction \nThe Sacrament of Reconciliation will be available from 6.30pm – 7.20pm
URL:https://enfieldrathmolyonparish.ie/event/monthly-novena-mass-with-a-focus-on-healing-and-intercession-to-padre-pio-10/
LOCATION:St. Michael’s Church Rathmolyon
END:VEVENT
BEGIN:VEVENT
DTSTART;VALUE=DATE:20260614
DTEND;VALUE=DATE:20260615
DTSTAMP:20260421T103252
CREATED:20250730T191131Z
LAST-MODIFIED:20250730T191131Z
UID:983-1781395200-1781481599@enfieldrathmolyonparish.ie
SUMMARY:Parish Field Day
DESCRIPTION:
URL:https://enfieldrathmolyonparish.ie/event/parish-field-day/
END:VEVENT
BEGIN:VEVENT
DTSTART;VALUE=DATE:20260619
DTEND;VALUE=DATE:20260621
DTSTAMP:20260421T103252
CREATED:20250731T062139Z
LAST-MODIFIED:20250731T062139Z
UID:1039-1781827200-1781999999@enfieldrathmolyonparish.ie
SUMMARY:Busy Persons Retreat
DESCRIPTION:
URL:https://enfieldrathmolyonparish.ie/event/busy-persons-retreat/
END:VEVENT
BEGIN:VEVENT
DTSTART;VALUE=DATE:20260620
DTEND;VALUE=DATE:20260622
DTSTAMP:20260421T103252
CREATED:20250730T181048Z
LAST-MODIFIED:20250730T181048Z
UID:929-1781913600-1782086399@enfieldrathmolyonparish.ie
SUMMARY:Father's Day
DESCRIPTION:Celebrating Father’s at all Weekend Masses
URL:https://enfieldrathmolyonparish.ie/event/fathers-day/
END:VEVENT
END:VCALENDAR